BEGIN:VCALENDAR
VERSION:2.0
PRODID:-//tandcschool.org//NONSGML kigkonsult.se iCalcreator 2.30.10//
CALSCALE:GREGORIAN
METHOD:PUBLISH
UID:4559ba88-96d6-4fbf-a34c-cdbcd9b93818
X-WR-CALDESC:
X-WR-RELCALID:065436a66df4403e247822e527e41001
X-WR-TIMEZONE:America/Chicago
BEGIN:VTIMEZONE
TZID:America/Chicago
BEGIN:STANDARD
TZNAME:CST
DTSTART:20241103T020000
TZOFFSETFROM:-0500
TZOFFSETTO:-0600
RDATE:20251102T020000
END:STANDARD
BEGIN:DAYLIGHT
TZNAME:CDT
DTSTART:20240310T020000
TZOFFSETFROM:-0600
TZOFFSETTO:-0500
RDATE:20250309T020000
RDATE:20260308T020000
END:DAYLIGHT
END:VTIMEZONE
BEGIN:VEVENT
UID:ec9149a5-bb41-424c-ba45-da1293d9fc45
DTSTAMP:20260423T100140Z
DESCRIPTION:
DTSTART;TZID=America/Chicago:20250221T050000
DTEND;TZID=America/Chicago:20250221T050001
LOCATION:
SUMMARY:Virtual Learning Day
END:VEVENT
END:VCALENDAR
