BEGIN:VCALENDAR
VERSION:2.0
PRODID:-//tandcschool.org//NONSGML kigkonsult.se iCalcreator 2.30.10//
CALSCALE:GREGORIAN
METHOD:PUBLISH
UID:77221101-3efe-4502-a2c9-52e0668b14a9
X-WR-CALDESC:
X-WR-RELCALID:cd89771648690a840621156f0a3c4b0b
X-WR-TIMEZONE:America/Chicago
BEGIN:VTIMEZONE
TZID:America/Chicago
BEGIN:STANDARD
TZNAME:CST
DTSTART:20241103T020000
TZOFFSETFROM:-0500
TZOFFSETTO:-0600
RDATE:20251102T020000
END:STANDARD
BEGIN:DAYLIGHT
TZNAME:CDT
DTSTART:20240310T020000
TZOFFSETFROM:-0600
TZOFFSETTO:-0500
RDATE:20250309T020000
RDATE:20260308T020000
END:DAYLIGHT
END:VTIMEZONE
BEGIN:VEVENT
UID:4599d644-31c7-4ba2-b8ad-457111121154
DTSTAMP:20260423T100226Z
DESCRIPTION:
DTSTART;TZID=America/Chicago:20250220T050000
DTEND;TZID=America/Chicago:20250220T050001
LOCATION:
SUMMARY:Virtual Learning Day
END:VEVENT
END:VCALENDAR
