BEGIN:VCALENDAR
VERSION:2.0
PRODID:-//tandcschool.org//NONSGML kigkonsult.se iCalcreator 2.30.10//
CALSCALE:GREGORIAN
METHOD:PUBLISH
UID:250d3a47-33ea-4085-a6ee-25090b57e3df
X-WR-CALDESC:
X-WR-RELCALID:d7b63fdd4d1b71d3474fe11f8f2e485c
X-WR-TIMEZONE:America/Chicago
BEGIN:VTIMEZONE
TZID:America/Chicago
BEGIN:STANDARD
TZNAME:CST
DTSTART:20241103T020000
TZOFFSETFROM:-0500
TZOFFSETTO:-0600
RDATE:20251102T020000
END:STANDARD
BEGIN:DAYLIGHT
TZNAME:CDT
DTSTART:20240310T020000
TZOFFSETFROM:-0600
TZOFFSETTO:-0500
RDATE:20250309T020000
RDATE:20260308T020000
END:DAYLIGHT
END:VTIMEZONE
BEGIN:VEVENT
UID:4241af46-ce26-4d26-8e6e-cb93e96df3b2
DTSTAMP:20260425T105102Z
DESCRIPTION:
DTSTART;TZID=America/Chicago:20250219T050000
DTEND;TZID=America/Chicago:20250219T050001
LOCATION:
SUMMARY:Virtual Learning Day
END:VEVENT
END:VCALENDAR
