BEGIN:VCALENDAR
VERSION:2.0
PRODID:-//tandcschool.org//NONSGML kigkonsult.se iCalcreator 2.30.10//
CALSCALE:GREGORIAN
METHOD:PUBLISH
UID:c4815984-065e-4420-9789-25ab5d6978ed
X-WR-CALDESC:
X-WR-RELCALID:8c15b976e73bf09f2cafec58d38f0252
X-WR-TIMEZONE:America/Chicago
BEGIN:VTIMEZONE
TZID:America/Chicago
BEGIN:STANDARD
TZNAME:CST
DTSTART:20241103T020000
TZOFFSETFROM:-0500
TZOFFSETTO:-0600
RDATE:20251102T020000
END:STANDARD
BEGIN:DAYLIGHT
TZNAME:CDT
DTSTART:20240310T020000
TZOFFSETFROM:-0600
TZOFFSETTO:-0500
RDATE:20250309T020000
RDATE:20260308T020000
END:DAYLIGHT
END:VTIMEZONE
BEGIN:VEVENT
UID:9bc9acb5-5ee4-46de-bcad-ab943841b335
DTSTAMP:20260423T100806Z
DESCRIPTION:
DTSTART;TZID=America/Chicago:20250219T050000
DTEND;TZID=America/Chicago:20250219T050001
LOCATION:
SUMMARY:End of 2nd Trimester
END:VEVENT
END:VCALENDAR
