BEGIN:VCALENDAR
VERSION:2.0
PRODID:-//tandcschool.org//NONSGML kigkonsult.se iCalcreator 2.30.10//
CALSCALE:GREGORIAN
METHOD:PUBLISH
UID:b03191f5-0b2f-4975-9ccf-66a6c0fd0af4
X-WR-CALDESC:
X-WR-RELCALID:c7f72327a5c76389122e221348e8658c
X-WR-TIMEZONE:America/Chicago
BEGIN:VTIMEZONE
TZID:America/Chicago
BEGIN:STANDARD
TZNAME:CST
DTSTART:20241103T020000
TZOFFSETFROM:-0500
TZOFFSETTO:-0600
RDATE:20251102T020000
END:STANDARD
BEGIN:DAYLIGHT
TZNAME:CDT
DTSTART:20240310T020000
TZOFFSETFROM:-0600
TZOFFSETTO:-0500
RDATE:20250309T020000
RDATE:20260308T020000
END:DAYLIGHT
END:VTIMEZONE
BEGIN:VEVENT
UID:4ffc00fe-bbd1-47d6-b142-03c91ba9bdb7
DTSTAMP:20260423T102651Z
DESCRIPTION:
DTSTART;TZID=America/Chicago:20250218T050000
DTEND;TZID=America/Chicago:20250218T050001
LOCATION:
SUMMARY:Virtual Learning Day
END:VEVENT
END:VCALENDAR
