BEGIN:VCALENDAR
VERSION:2.0
PRODID:-//tandcschool.org//NONSGML kigkonsult.se iCalcreator 2.30.10//
CALSCALE:GREGORIAN
METHOD:PUBLISH
UID:486ef7ef-48b2-4606-b023-5c34ed677b0e
X-WR-CALDESC:
X-WR-RELCALID:9a41aa2538318b40abce0b5d6c686dd5
X-WR-TIMEZONE:America/Chicago
BEGIN:VTIMEZONE
TZID:America/Chicago
BEGIN:STANDARD
TZNAME:CST
DTSTART:20241103T020000
TZOFFSETFROM:-0500
TZOFFSETTO:-0600
RDATE:20251102T020000
END:STANDARD
BEGIN:DAYLIGHT
TZNAME:CDT
DTSTART:20240310T020000
TZOFFSETFROM:-0600
TZOFFSETTO:-0500
RDATE:20250309T020000
RDATE:20260308T020000
END:DAYLIGHT
END:VTIMEZONE
BEGIN:VEVENT
UID:69471ef8-0947-4304-97fa-4b8525a23476
DTSTAMP:20260423T100516Z
DESCRIPTION:
DTSTART;TZID=America/Chicago:20250217T050000
DTEND;TZID=America/Chicago:20250217T050001
LOCATION:
SUMMARY:President's Day
END:VEVENT
END:VCALENDAR
