BEGIN:VCALENDAR
VERSION:2.0
PRODID:-//tandcschool.org//NONSGML kigkonsult.se iCalcreator 2.30.10//
CALSCALE:GREGORIAN
METHOD:PUBLISH
UID:dd68fa08-f6f7-4de2-9bf9-6c01d1aa811a
X-WR-CALDESC:
X-WR-RELCALID:b78af17a11357f9a217349b71a391a55
X-WR-TIMEZONE:America/Chicago
BEGIN:VTIMEZONE
TZID:America/Chicago
BEGIN:STANDARD
TZNAME:CST
DTSTART:20241103T020000
TZOFFSETFROM:-0500
TZOFFSETTO:-0600
RDATE:20251102T020000
END:STANDARD
BEGIN:DAYLIGHT
TZNAME:CDT
DTSTART:20240310T020000
TZOFFSETFROM:-0600
TZOFFSETTO:-0500
RDATE:20250309T020000
RDATE:20260308T020000
END:DAYLIGHT
END:VTIMEZONE
BEGIN:VEVENT
UID:c12b6179-42bd-40d8-a39c-db5302d5824a
DTSTAMP:20260423T102933Z
DESCRIPTION:
DTSTART;TZID=America/Chicago:20250214T050000
DTEND;TZID=America/Chicago:20250214T050001
LOCATION:
SUMMARY:Free Dress Day
END:VEVENT
END:VCALENDAR
