BEGIN:VCALENDAR
VERSION:2.0
PRODID:-//tandcschool.org//NONSGML kigkonsult.se iCalcreator 2.30.10//
CALSCALE:GREGORIAN
METHOD:PUBLISH
UID:91cae2d2-1666-44d2-bccd-ef4a3eb87d38
X-WR-CALDESC:
X-WR-RELCALID:297b2aab0e0dbb790c0030a44ad6b62c
X-WR-TIMEZONE:America/Chicago
BEGIN:VTIMEZONE
TZID:America/Chicago
BEGIN:STANDARD
TZNAME:CST
DTSTART:20241103T020000
TZOFFSETFROM:-0500
TZOFFSETTO:-0600
RDATE:20251102T020000
END:STANDARD
BEGIN:DAYLIGHT
TZNAME:CDT
DTSTART:20240310T020000
TZOFFSETFROM:-0600
TZOFFSETTO:-0500
RDATE:20250309T020000
RDATE:20260308T020000
END:DAYLIGHT
END:VTIMEZONE
BEGIN:VEVENT
UID:785d5cfb-6533-4bc2-a31c-56bd678c42ed
DTSTAMP:20260423T102256Z
DESCRIPTION:
DTSTART;TZID=America/Chicago:20250213T153000
DTEND;TZID=America/Chicago:20250213T163000
LOCATION:
SUMMARY:LS Cooking Club
END:VEVENT
END:VCALENDAR
