BEGIN:VCALENDAR
VERSION:2.0
PRODID:-//tandcschool.org//NONSGML kigkonsult.se iCalcreator 2.30.10//
CALSCALE:GREGORIAN
METHOD:PUBLISH
UID:16f3796a-7f78-4fbb-8686-c8cffaa916cd
X-WR-CALDESC:
X-WR-RELCALID:1e00673dc7da1ee51cf4a8963c457807
X-WR-TIMEZONE:America/Chicago
BEGIN:VTIMEZONE
TZID:America/Chicago
BEGIN:STANDARD
TZNAME:CST
DTSTART:20241103T020000
TZOFFSETFROM:-0500
TZOFFSETTO:-0600
RDATE:20251102T020000
END:STANDARD
BEGIN:DAYLIGHT
TZNAME:CDT
DTSTART:20240310T020000
TZOFFSETFROM:-0600
TZOFFSETTO:-0500
RDATE:20250309T020000
RDATE:20260308T020000
END:DAYLIGHT
END:VTIMEZONE
BEGIN:VEVENT
UID:5a6398f5-3f54-4800-9443-c2abb526bd47
DTSTAMP:20260423T104301Z
DESCRIPTION:
DTSTART;TZID=America/Chicago:20250211T152000
DTEND;TZID=America/Chicago:20250211T160000
LOCATION:
SUMMARY:LS Lego Club
END:VEVENT
END:VCALENDAR
