BEGIN:VCALENDAR
VERSION:2.0
PRODID:-//tandcschool.org//NONSGML kigkonsult.se iCalcreator 2.30.10//
CALSCALE:GREGORIAN
METHOD:PUBLISH
UID:75166e11-8346-4e8c-8a13-5e424f90270a
X-WR-CALDESC:
X-WR-RELCALID:2832d619a092417c1d17da9a7865aa6d
X-WR-TIMEZONE:America/Chicago
BEGIN:VTIMEZONE
TZID:America/Chicago
BEGIN:STANDARD
TZNAME:CST
DTSTART:20241103T020000
TZOFFSETFROM:-0500
TZOFFSETTO:-0600
RDATE:20251102T020000
END:STANDARD
BEGIN:DAYLIGHT
TZNAME:CDT
DTSTART:20240310T020000
TZOFFSETFROM:-0600
TZOFFSETTO:-0500
RDATE:20250309T020000
RDATE:20260308T020000
END:DAYLIGHT
END:VTIMEZONE
BEGIN:VEVENT
UID:f33627a7-17f7-4627-b37a-b27f743fabe6
DTSTAMP:20260423T101711Z
DESCRIPTION:
DTSTART;TZID=America/Chicago:20250211T151500
DTEND;TZID=America/Chicago:20250211T161500
LOCATION:
SUMMARY:HS/MS Cooking Club
END:VEVENT
END:VCALENDAR
