BEGIN:VCALENDAR
VERSION:2.0
PRODID:-//tandcschool.org//NONSGML kigkonsult.se iCalcreator 2.30.10//
CALSCALE:GREGORIAN
METHOD:PUBLISH
UID:21ccffc2-964b-4e34-b826-334fc16dccfd
X-WR-CALDESC:
X-WR-RELCALID:a162ebda4585b74aa7eaa8518663d5ab
X-WR-TIMEZONE:America/Chicago
BEGIN:VTIMEZONE
TZID:America/Chicago
BEGIN:STANDARD
TZNAME:CST
DTSTART:20241103T020000
TZOFFSETFROM:-0500
TZOFFSETTO:-0600
RDATE:20251102T020000
END:STANDARD
BEGIN:DAYLIGHT
TZNAME:CDT
DTSTART:20240310T020000
TZOFFSETFROM:-0600
TZOFFSETTO:-0500
RDATE:20250309T020000
RDATE:20260308T020000
END:DAYLIGHT
END:VTIMEZONE
BEGIN:VEVENT
UID:5fbdbeee-665e-404a-999c-633ef6c5d0d6
DTSTAMP:20260423T103327Z
DESCRIPTION:
DTSTART;TZID=America/Chicago:20250210T150000
DTEND;TZID=America/Chicago:20250210T154500
LOCATION:
SUMMARY:NHS Meeting
END:VEVENT
END:VCALENDAR
