BEGIN:VCALENDAR
VERSION:2.0
PRODID:-//tandcschool.org//NONSGML kigkonsult.se iCalcreator 2.30.10//
CALSCALE:GREGORIAN
METHOD:PUBLISH
UID:4aed813f-8cc1-46e9-b252-a2106ad5687e
X-WR-CALDESC:
X-WR-RELCALID:23bbd5baeea55bd28f5539f19cba02f3
X-WR-TIMEZONE:America/Chicago
BEGIN:VTIMEZONE
TZID:America/Chicago
BEGIN:STANDARD
TZNAME:CST
DTSTART:20241103T020000
TZOFFSETFROM:-0500
TZOFFSETTO:-0600
RDATE:20251102T020000
END:STANDARD
BEGIN:DAYLIGHT
TZNAME:CDT
DTSTART:20240310T020000
TZOFFSETFROM:-0600
TZOFFSETTO:-0500
RDATE:20250309T020000
RDATE:20260308T020000
END:DAYLIGHT
END:VTIMEZONE
BEGIN:VEVENT
UID:445c8e50-ee98-4c28-9d2e-92b805840e5e
DTSTAMP:20260423T112223Z
DESCRIPTION:
DTSTART;TZID=America/Chicago:20250210T150000
DTEND;TZID=America/Chicago:20250210T154500
LOCATION:
SUMMARY:Cheer
END:VEVENT
END:VCALENDAR
