BEGIN:VCALENDAR
VERSION:2.0
PRODID:-//tandcschool.org//NONSGML kigkonsult.se iCalcreator 2.30.10//
CALSCALE:GREGORIAN
METHOD:PUBLISH
UID:40c1a2aa-006d-476b-9d3d-322b75969421
X-WR-CALDESC:
X-WR-RELCALID:83c40c9b6cdcd21983dc24cfcfa0cf8e
X-WR-TIMEZONE:America/Chicago
BEGIN:VTIMEZONE
TZID:America/Chicago
BEGIN:STANDARD
TZNAME:CST
DTSTART:20241103T020000
TZOFFSETFROM:-0500
TZOFFSETTO:-0600
RDATE:20251102T020000
END:STANDARD
BEGIN:DAYLIGHT
TZNAME:CDT
DTSTART:20240310T020000
TZOFFSETFROM:-0600
TZOFFSETTO:-0500
RDATE:20250309T020000
RDATE:20260308T020000
END:DAYLIGHT
END:VTIMEZONE
BEGIN:VEVENT
UID:8f354236-0b09-43c5-b807-839befbf15fb
DTSTAMP:20260423T105511Z
DESCRIPTION:
DTSTART;TZID=America/Chicago:20250207T050000
DTEND;TZID=America/Chicago:20250207T050001
LOCATION:
SUMMARY:Fast Food Friday
END:VEVENT
END:VCALENDAR
