BEGIN:VCALENDAR
VERSION:2.0
PRODID:-//tandcschool.org//NONSGML kigkonsult.se iCalcreator 2.30.10//
CALSCALE:GREGORIAN
METHOD:PUBLISH
UID:17702886-c9c6-475e-b9d1-b3042b9797d2
X-WR-CALDESC:
X-WR-RELCALID:4ed0dc04ae69f49f6da67fc2e30012ea
X-WR-TIMEZONE:America/Chicago
BEGIN:VTIMEZONE
TZID:America/Chicago
BEGIN:STANDARD
TZNAME:CST
DTSTART:20241103T020000
TZOFFSETFROM:-0500
TZOFFSETTO:-0600
RDATE:20251102T020000
END:STANDARD
BEGIN:DAYLIGHT
TZNAME:CDT
DTSTART:20240310T020000
TZOFFSETFROM:-0600
TZOFFSETTO:-0500
RDATE:20250309T020000
RDATE:20260308T020000
END:DAYLIGHT
END:VTIMEZONE
BEGIN:VEVENT
UID:719a8dce-7645-411b-aee5-fed215d9c3b0
DTSTAMP:20260423T102313Z
DESCRIPTION:
DTSTART;TZID=America/Chicago:20250207T160000
DTEND;TZID=America/Chicago:20250207T180000
LOCATION:
SUMMARY:Bowling
END:VEVENT
END:VCALENDAR
