BEGIN:VCALENDAR
VERSION:2.0
PRODID:-//tandcschool.org//NONSGML kigkonsult.se iCalcreator 2.30.10//
CALSCALE:GREGORIAN
METHOD:PUBLISH
UID:fdf227cd-3096-4ca3-9135-5a8ec2f8798d
X-WR-CALDESC:
X-WR-RELCALID:abcee264a8e9f102e1ecdac562128908
X-WR-TIMEZONE:America/Chicago
BEGIN:VTIMEZONE
TZID:America/Chicago
BEGIN:STANDARD
TZNAME:CST
DTSTART:20241103T020000
TZOFFSETFROM:-0500
TZOFFSETTO:-0600
RDATE:20251102T020000
END:STANDARD
BEGIN:DAYLIGHT
TZNAME:CDT
DTSTART:20240310T020000
TZOFFSETFROM:-0600
TZOFFSETTO:-0500
RDATE:20250309T020000
RDATE:20260308T020000
END:DAYLIGHT
END:VTIMEZONE
BEGIN:VEVENT
UID:a49e2e54-93f7-48d0-901a-50a9d2584278
DTSTAMP:20260423T102631Z
DESCRIPTION:
DTSTART;TZID=America/Chicago:20250207T150000
DTEND;TZID=America/Chicago:20250207T154500
LOCATION:
SUMMARY:Gaming Club B
END:VEVENT
END:VCALENDAR
