BEGIN:VCALENDAR
VERSION:2.0
PRODID:-//tandcschool.org//NONSGML kigkonsult.se iCalcreator 2.30.10//
CALSCALE:GREGORIAN
METHOD:PUBLISH
UID:89ee10e9-0358-4d51-8634-ba5886ec41e4
X-WR-CALDESC:
X-WR-RELCALID:e1004637618072ea64dcd4b41c345c77
X-WR-TIMEZONE:America/Chicago
BEGIN:VTIMEZONE
TZID:America/Chicago
BEGIN:STANDARD
TZNAME:CST
DTSTART:20241103T020000
TZOFFSETFROM:-0500
TZOFFSETTO:-0600
RDATE:20251102T020000
END:STANDARD
BEGIN:DAYLIGHT
TZNAME:CDT
DTSTART:20240310T020000
TZOFFSETFROM:-0600
TZOFFSETTO:-0500
RDATE:20250309T020000
RDATE:20260308T020000
END:DAYLIGHT
END:VTIMEZONE
BEGIN:VEVENT
UID:97583316-f4ec-4c65-bf16-99f71f5fa2e3
DTSTAMP:20260423T101407Z
DESCRIPTION:
DTSTART;TZID=America/Chicago:20250207T150000
DTEND;TZID=America/Chicago:20250207T154500
LOCATION:
SUMMARY:Astronomy Club
END:VEVENT
END:VCALENDAR
