BEGIN:VCALENDAR
VERSION:2.0
PRODID:-//tandcschool.org//NONSGML kigkonsult.se iCalcreator 2.30.10//
CALSCALE:GREGORIAN
METHOD:PUBLISH
UID:4e4dc4f1-2d19-447c-b4b9-50aef3ae0e7f
X-WR-CALDESC:2/6-2/13. $1.50 each
X-WR-RELCALID:6895ef23fa3c92c3c4bc45495e326674
X-WR-TIMEZONE:America/Chicago
BEGIN:VTIMEZONE
TZID:America/Chicago
BEGIN:STANDARD
TZNAME:CST
DTSTART:20241103T020000
TZOFFSETFROM:-0500
TZOFFSETTO:-0600
RDATE:20251102T020000
END:STANDARD
BEGIN:DAYLIGHT
TZNAME:CDT
DTSTART:20240310T020000
TZOFFSETFROM:-0600
TZOFFSETTO:-0500
RDATE:20250309T020000
RDATE:20260308T020000
END:DAYLIGHT
END:VTIMEZONE
BEGIN:VEVENT
UID:1b774079-15f7-440d-83e6-dcaf94c67245
DTSTAMP:20260420T140343Z
DESCRIPTION:2/6-2/13. $1.50 each
DTSTART;TZID=America/Chicago:20250206T050000
DTEND;TZID=America/Chicago:20250206T050001
LOCATION:
SUMMARY:Candy Grams on Sale
END:VEVENT
END:VCALENDAR
