BEGIN:VCALENDAR
VERSION:2.0
PRODID:-//tandcschool.org//NONSGML kigkonsult.se iCalcreator 2.30.10//
CALSCALE:GREGORIAN
METHOD:PUBLISH
UID:966db491-c677-4606-bca7-a734c250e635
X-WR-CALDESC:
X-WR-RELCALID:c33fb078d1bfa7a99301bf05c7ddedd8
X-WR-TIMEZONE:America/Chicago
BEGIN:VTIMEZONE
TZID:America/Chicago
BEGIN:STANDARD
TZNAME:CST
DTSTART:20241103T020000
TZOFFSETFROM:-0500
TZOFFSETTO:-0600
RDATE:20251102T020000
END:STANDARD
BEGIN:DAYLIGHT
TZNAME:CDT
DTSTART:20240310T020000
TZOFFSETFROM:-0600
TZOFFSETTO:-0500
RDATE:20250309T020000
RDATE:20260308T020000
END:DAYLIGHT
END:VTIMEZONE
BEGIN:VEVENT
UID:74909c60-6923-4cca-bb52-17886ca2e27c
DTSTAMP:20260423T103924Z
DESCRIPTION:
DTSTART;TZID=America/Chicago:20250205T150000
DTEND;TZID=America/Chicago:20250205T154500
LOCATION:
SUMMARY:HS Art Club
END:VEVENT
END:VCALENDAR
