BEGIN:VCALENDAR
VERSION:2.0
PRODID:-//tandcschool.org//NONSGML kigkonsult.se iCalcreator 2.30.10//
CALSCALE:GREGORIAN
METHOD:PUBLISH
UID:eda2e15e-15f0-4d4f-90ac-d2c0b17d533b
X-WR-CALDESC:
X-WR-RELCALID:3dcc67d59982a6fd20e80809e0df9f15
X-WR-TIMEZONE:America/Chicago
BEGIN:VTIMEZONE
TZID:America/Chicago
BEGIN:STANDARD
TZNAME:CST
DTSTART:20241103T020000
TZOFFSETFROM:-0500
TZOFFSETTO:-0600
RDATE:20251102T020000
END:STANDARD
BEGIN:DAYLIGHT
TZNAME:CDT
DTSTART:20240310T020000
TZOFFSETFROM:-0600
TZOFFSETTO:-0500
RDATE:20250309T020000
RDATE:20260308T020000
END:DAYLIGHT
END:VTIMEZONE
BEGIN:VEVENT
UID:454bc91d-9cce-4f2c-990b-bf3b283d13cf
DTSTAMP:20260423T103455Z
DESCRIPTION:
DTSTART;TZID=America/Chicago:20250204T152000
DTEND;TZID=America/Chicago:20250204T160000
LOCATION:
SUMMARY:LS Lego Club
END:VEVENT
END:VCALENDAR
