BEGIN:VCALENDAR
VERSION:2.0
PRODID:-//tandcschool.org//NONSGML kigkonsult.se iCalcreator 2.30.10//
CALSCALE:GREGORIAN
METHOD:PUBLISH
UID:e9b2a4b2-3d0f-4c63-b812-1e9959d59cc7
X-WR-CALDESC:
X-WR-RELCALID:1fe18c1e956a2ae27fe67a5ad7f7e7b3
X-WR-TIMEZONE:America/Chicago
BEGIN:VTIMEZONE
TZID:America/Chicago
BEGIN:STANDARD
TZNAME:CST
DTSTART:20241103T020000
TZOFFSETFROM:-0500
TZOFFSETTO:-0600
RDATE:20251102T020000
END:STANDARD
BEGIN:DAYLIGHT
TZNAME:CDT
DTSTART:20240310T020000
TZOFFSETFROM:-0600
TZOFFSETTO:-0500
RDATE:20250309T020000
RDATE:20260308T020000
END:DAYLIGHT
END:VTIMEZONE
BEGIN:VEVENT
UID:4fbae859-4bd5-4763-9b8d-9fe6898d8e76
DTSTAMP:20260423T102953Z
DESCRIPTION:
DTSTART;TZID=America/Chicago:20250204T151500
DTEND;TZID=America/Chicago:20250204T161500
LOCATION:
SUMMARY:HS/MS Cooking Club
END:VEVENT
END:VCALENDAR
