BEGIN:VCALENDAR
VERSION:2.0
PRODID:-//tandcschool.org//NONSGML kigkonsult.se iCalcreator 2.30.10//
CALSCALE:GREGORIAN
METHOD:PUBLISH
UID:b9891951-ab71-4bfc-9983-460bbda9e002
X-WR-CALDESC:
X-WR-RELCALID:b641cdebae7db322d63519031e281aa6
X-WR-TIMEZONE:America/Chicago
BEGIN:VTIMEZONE
TZID:America/Chicago
BEGIN:STANDARD
TZNAME:CST
DTSTART:20241103T020000
TZOFFSETFROM:-0500
TZOFFSETTO:-0600
RDATE:20251102T020000
END:STANDARD
BEGIN:DAYLIGHT
TZNAME:CDT
DTSTART:20240310T020000
TZOFFSETFROM:-0600
TZOFFSETTO:-0500
RDATE:20250309T020000
RDATE:20260308T020000
END:DAYLIGHT
END:VTIMEZONE
BEGIN:VEVENT
UID:4600cdb4-4ae2-404d-af1a-f4321e6beb49
DTSTAMP:20260423T100717Z
DESCRIPTION:
DTSTART;TZID=America/Chicago:20250203T150000
DTEND;TZID=America/Chicago:20250203T154500
LOCATION:
SUMMARY:BB & Cheer Pictures
END:VEVENT
END:VCALENDAR
