BEGIN:VCALENDAR
VERSION:2.0
PRODID:-//tandcschool.org//NONSGML kigkonsult.se iCalcreator 2.30.10//
CALSCALE:GREGORIAN
METHOD:PUBLISH
UID:a9f76375-03f9-4cee-8ee8-bc4ac21ce616
X-WR-CALDESC:
X-WR-RELCALID:16cb26ce1324e1ff354938641c630431
X-WR-TIMEZONE:America/Chicago
BEGIN:VTIMEZONE
TZID:America/Chicago
BEGIN:STANDARD
TZNAME:CST
DTSTART:20241103T020000
TZOFFSETFROM:-0500
TZOFFSETTO:-0600
RDATE:20251102T020000
END:STANDARD
BEGIN:DAYLIGHT
TZNAME:CDT
DTSTART:20240310T020000
TZOFFSETFROM:-0600
TZOFFSETTO:-0500
RDATE:20250309T020000
RDATE:20260308T020000
END:DAYLIGHT
END:VTIMEZONE
BEGIN:VEVENT
UID:e2dd07c9-a1e5-4184-8e40-026fe155d870
DTSTAMP:20260423T102309Z
DESCRIPTION:
DTSTART;TZID=America/Chicago:20250203T150000
DTEND;TZID=America/Chicago:20250203T154500
LOCATION:
SUMMARY:Chess Club
END:VEVENT
END:VCALENDAR
