BEGIN:VCALENDAR
VERSION:2.0
PRODID:-//tandcschool.org//NONSGML kigkonsult.se iCalcreator 2.30.10//
CALSCALE:GREGORIAN
METHOD:PUBLISH
UID:962e2a56-5db2-4e0a-842f-86e4acefafec
X-WR-CALDESC:
X-WR-RELCALID:dad7defbd7b622ec41f887edba42ea17
X-WR-TIMEZONE:America/Chicago
BEGIN:VTIMEZONE
TZID:America/Chicago
BEGIN:STANDARD
TZNAME:CST
DTSTART:20241103T020000
TZOFFSETFROM:-0500
TZOFFSETTO:-0600
RDATE:20251102T020000
END:STANDARD
BEGIN:DAYLIGHT
TZNAME:CDT
DTSTART:20240310T020000
TZOFFSETFROM:-0600
TZOFFSETTO:-0500
RDATE:20250309T020000
RDATE:20260308T020000
END:DAYLIGHT
END:VTIMEZONE
BEGIN:VEVENT
UID:4e27396b-9fc6-41bb-9efb-e3413cedb18b
DTSTAMP:20260423T115217Z
DESCRIPTION:
DTSTART;TZID=America/Chicago:20250131T160000
DTEND;TZID=America/Chicago:20250131T180000
LOCATION:
SUMMARY:Bowling
END:VEVENT
END:VCALENDAR
