BEGIN:VCALENDAR
VERSION:2.0
PRODID:-//tandcschool.org//NONSGML kigkonsult.se iCalcreator 2.30.10//
CALSCALE:GREGORIAN
METHOD:PUBLISH
UID:c9a7ba2d-e161-4f49-8a92-82e30bf90b0a
X-WR-CALDESC:
X-WR-RELCALID:86a4f8b2d960bc40fea2712ead6c9ca9
X-WR-TIMEZONE:America/Chicago
BEGIN:VTIMEZONE
TZID:America/Chicago
BEGIN:STANDARD
TZNAME:CST
DTSTART:20241103T020000
TZOFFSETFROM:-0500
TZOFFSETTO:-0600
RDATE:20251102T020000
END:STANDARD
BEGIN:DAYLIGHT
TZNAME:CDT
DTSTART:20240310T020000
TZOFFSETFROM:-0600
TZOFFSETTO:-0500
RDATE:20250309T020000
RDATE:20260308T020000
END:DAYLIGHT
END:VTIMEZONE
BEGIN:VEVENT
UID:d0fcf2e2-50ed-4f3d-9c54-505f12b2b79f
DTSTAMP:20260423T115704Z
DESCRIPTION:
DTSTART;TZID=America/Chicago:20250131T150000
DTEND;TZID=America/Chicago:20250131T154500
LOCATION:
SUMMARY:Gaming Club A
END:VEVENT
END:VCALENDAR
