BEGIN:VCALENDAR
VERSION:2.0
PRODID:-//tandcschool.org//NONSGML kigkonsult.se iCalcreator 2.30.10//
CALSCALE:GREGORIAN
METHOD:PUBLISH
UID:eb8f0074-cd80-45e5-82af-b7c3cc0d5c15
X-WR-CALDESC:
X-WR-RELCALID:3c1152522312755dc3b18e55f0a37134
X-WR-TIMEZONE:America/Chicago
BEGIN:VTIMEZONE
TZID:America/Chicago
BEGIN:STANDARD
TZNAME:CST
DTSTART:20241103T020000
TZOFFSETFROM:-0500
TZOFFSETTO:-0600
RDATE:20251102T020000
END:STANDARD
BEGIN:DAYLIGHT
TZNAME:CDT
DTSTART:20240310T020000
TZOFFSETFROM:-0600
TZOFFSETTO:-0500
RDATE:20250309T020000
RDATE:20260308T020000
END:DAYLIGHT
END:VTIMEZONE
BEGIN:VEVENT
UID:224938a9-17f5-4716-a8ec-4415497d5555
DTSTAMP:20260423T115136Z
DESCRIPTION:
DTSTART;TZID=America/Chicago:20250130T180000
DTEND;TZID=America/Chicago:20250130T200000
LOCATION:
SUMMARY:Basketball Scrimmage
END:VEVENT
END:VCALENDAR
