BEGIN:VCALENDAR
VERSION:2.0
PRODID:-//tandcschool.org//NONSGML kigkonsult.se iCalcreator 2.30.10//
CALSCALE:GREGORIAN
METHOD:PUBLISH
UID:a9f5ff01-0124-4f61-a5cb-df67746bd405
X-WR-CALDESC:
X-WR-RELCALID:b10b9dd8b66acf2d29d148237dce0cfd
X-WR-TIMEZONE:America/Chicago
BEGIN:VTIMEZONE
TZID:America/Chicago
BEGIN:STANDARD
TZNAME:CST
DTSTART:20241103T020000
TZOFFSETFROM:-0500
TZOFFSETTO:-0600
RDATE:20251102T020000
END:STANDARD
BEGIN:DAYLIGHT
TZNAME:CDT
DTSTART:20240310T020000
TZOFFSETFROM:-0600
TZOFFSETTO:-0500
RDATE:20250309T020000
RDATE:20260308T020000
END:DAYLIGHT
END:VTIMEZONE
BEGIN:VEVENT
UID:15986d03-e16c-4c86-b22b-1d48a229fe96
DTSTAMP:20260423T115135Z
DESCRIPTION:
DTSTART;TZID=America/Chicago:20250129T153000
DTEND;TZID=America/Chicago:20250129T170000
LOCATION:
SUMMARY:Bowling
END:VEVENT
END:VCALENDAR
