BEGIN:VCALENDAR
VERSION:2.0
PRODID:-//tandcschool.org//NONSGML kigkonsult.se iCalcreator 2.30.10//
CALSCALE:GREGORIAN
METHOD:PUBLISH
UID:5ba5b75f-8f77-4f89-b248-549297ce8a1b
X-WR-CALDESC:
X-WR-RELCALID:f3a9387794a65998fd9998bd95eace9f
X-WR-TIMEZONE:America/Chicago
BEGIN:VTIMEZONE
TZID:America/Chicago
BEGIN:STANDARD
TZNAME:CST
DTSTART:20241103T020000
TZOFFSETFROM:-0500
TZOFFSETTO:-0600
RDATE:20251102T020000
END:STANDARD
BEGIN:DAYLIGHT
TZNAME:CDT
DTSTART:20240310T020000
TZOFFSETFROM:-0600
TZOFFSETTO:-0500
RDATE:20250309T020000
RDATE:20260308T020000
END:DAYLIGHT
END:VTIMEZONE
BEGIN:VEVENT
UID:27708dc7-fb6a-4e1a-8fbc-a8e17cf6fd77
DTSTAMP:20260423T115011Z
DESCRIPTION:
DTSTART;TZID=America/Chicago:20250128T150000
DTEND;TZID=America/Chicago:20250128T163000
LOCATION:
SUMMARY:Cooking Club
END:VEVENT
END:VCALENDAR
