BEGIN:VCALENDAR
VERSION:2.0
PRODID:-//tandcschool.org//NONSGML kigkonsult.se iCalcreator 2.30.10//
CALSCALE:GREGORIAN
METHOD:PUBLISH
UID:83c13c75-5067-42ed-9b3d-4b13943fc747
X-WR-CALDESC:
X-WR-RELCALID:3a6df1cff043004a2776e2952294a81e
X-WR-TIMEZONE:America/Chicago
BEGIN:VTIMEZONE
TZID:America/Chicago
BEGIN:STANDARD
TZNAME:CST
DTSTART:20241103T020000
TZOFFSETFROM:-0500
TZOFFSETTO:-0600
RDATE:20251102T020000
END:STANDARD
BEGIN:DAYLIGHT
TZNAME:CDT
DTSTART:20240310T020000
TZOFFSETFROM:-0600
TZOFFSETTO:-0500
RDATE:20250309T020000
RDATE:20260308T020000
END:DAYLIGHT
END:VTIMEZONE
BEGIN:VEVENT
UID:bdac6c76-be5f-41be-949f-89ec0d95768f
DTSTAMP:20260423T120027Z
DESCRIPTION:
DTSTART;TZID=America/Chicago:20250128T150000
DTEND;TZID=America/Chicago:20250128T154500
LOCATION:
SUMMARY:HS Lego Club
END:VEVENT
END:VCALENDAR
