BEGIN:VCALENDAR
VERSION:2.0
PRODID:-//tandcschool.org//NONSGML kigkonsult.se iCalcreator 2.30.10//
CALSCALE:GREGORIAN
METHOD:PUBLISH
UID:7a793e39-1942-43d5-aa7b-03919bc577aa
X-WR-CALDESC:
X-WR-RELCALID:895a09b41b1a530dd55d54aefc1c26e0
X-WR-TIMEZONE:America/Chicago
BEGIN:VTIMEZONE
TZID:America/Chicago
BEGIN:STANDARD
TZNAME:CST
DTSTART:20241103T020000
TZOFFSETFROM:-0500
TZOFFSETTO:-0600
RDATE:20251102T020000
END:STANDARD
BEGIN:DAYLIGHT
TZNAME:CDT
DTSTART:20240310T020000
TZOFFSETFROM:-0600
TZOFFSETTO:-0500
RDATE:20250309T020000
RDATE:20260308T020000
END:DAYLIGHT
END:VTIMEZONE
BEGIN:VEVENT
UID:84591c4f-7a87-481f-a467-641248d68424
DTSTAMP:20260423T114731Z
DESCRIPTION:
DTSTART;TZID=America/Chicago:20250127T150000
DTEND;TZID=America/Chicago:20250127T160000
LOCATION:
SUMMARY:Cheer
END:VEVENT
END:VCALENDAR
