BEGIN:VCALENDAR
VERSION:2.0
PRODID:-//tandcschool.org//NONSGML kigkonsult.se iCalcreator 2.30.10//
CALSCALE:GREGORIAN
METHOD:PUBLISH
UID:368505d3-b056-4ff1-9878-38950c139aa5
X-WR-CALDESC:
X-WR-RELCALID:229cb451b090567b40b408bd46bd74c3
X-WR-TIMEZONE:America/Chicago
BEGIN:VTIMEZONE
TZID:America/Chicago
BEGIN:STANDARD
TZNAME:CST
DTSTART:20241103T020000
TZOFFSETFROM:-0500
TZOFFSETTO:-0600
RDATE:20251102T020000
END:STANDARD
BEGIN:DAYLIGHT
TZNAME:CDT
DTSTART:20240310T020000
TZOFFSETFROM:-0600
TZOFFSETTO:-0500
RDATE:20250309T020000
RDATE:20260308T020000
END:DAYLIGHT
END:VTIMEZONE
BEGIN:VEVENT
UID:156be718-93e0-4d28-a7cf-05b653af1b8c
DTSTAMP:20260423T115925Z
DESCRIPTION:
DTSTART;TZID=America/Chicago:20250127T150000
DTEND;TZID=America/Chicago:20250127T160000
LOCATION:
SUMMARY:LS Art Club A
END:VEVENT
END:VCALENDAR
