BEGIN:VCALENDAR
VERSION:2.0
PRODID:-//tandcschool.org//NONSGML kigkonsult.se iCalcreator 2.30.10//
CALSCALE:GREGORIAN
METHOD:PUBLISH
UID:c626b52e-221c-43fa-9479-fcec02b2148f
X-WR-CALDESC:
X-WR-RELCALID:34f8841033d17de0ae64ed3a9a5feab7
X-WR-TIMEZONE:America/Chicago
BEGIN:VTIMEZONE
TZID:America/Chicago
BEGIN:STANDARD
TZNAME:CST
DTSTART:20241103T020000
TZOFFSETFROM:-0500
TZOFFSETTO:-0600
RDATE:20251102T020000
END:STANDARD
BEGIN:DAYLIGHT
TZNAME:CDT
DTSTART:20240310T020000
TZOFFSETFROM:-0600
TZOFFSETTO:-0500
RDATE:20250309T020000
RDATE:20260308T020000
END:DAYLIGHT
END:VTIMEZONE
BEGIN:VEVENT
UID:6f7eaada-f855-4f1b-aa16-2e08932aebeb
DTSTAMP:20260423T120028Z
DESCRIPTION:
DTSTART;TZID=America/Chicago:20250127T150000
DTEND;TZID=America/Chicago:20250127T154500
LOCATION:
SUMMARY:Bible Club
END:VEVENT
END:VCALENDAR
