BEGIN:VCALENDAR
VERSION:2.0
PRODID:-//tandcschool.org//NONSGML kigkonsult.se iCalcreator 2.30.10//
CALSCALE:GREGORIAN
METHOD:PUBLISH
UID:faf5678e-8134-414a-9e0d-cf1802241e76
X-WR-CALDESC:
X-WR-RELCALID:1a125c70a508f1b9345257d3e40b9f5f
X-WR-TIMEZONE:America/Chicago
BEGIN:VTIMEZONE
TZID:America/Chicago
BEGIN:STANDARD
TZNAME:CST
DTSTART:20241103T020000
TZOFFSETFROM:-0500
TZOFFSETTO:-0600
RDATE:20251102T020000
END:STANDARD
BEGIN:DAYLIGHT
TZNAME:CDT
DTSTART:20240310T020000
TZOFFSETFROM:-0600
TZOFFSETTO:-0500
RDATE:20250309T020000
RDATE:20260308T020000
END:DAYLIGHT
END:VTIMEZONE
BEGIN:VEVENT
UID:7001eb92-d9d7-40e9-b15a-96d663cb68a3
DTSTAMP:20260423T115341Z
DESCRIPTION:
DTSTART;TZID=America/Chicago:20250124T160000
DTEND;TZID=America/Chicago:20250124T180000
LOCATION:
SUMMARY:Bowling
END:VEVENT
END:VCALENDAR
