BEGIN:VCALENDAR
VERSION:2.0
PRODID:-//tandcschool.org//NONSGML kigkonsult.se iCalcreator 2.30.10//
CALSCALE:GREGORIAN
METHOD:PUBLISH
UID:0ea194ac-5939-476f-9ae9-5c687fe80fb3
X-WR-CALDESC:
X-WR-RELCALID:249f35ae54de436c6a7ec46ef73e3a16
X-WR-TIMEZONE:America/Chicago
BEGIN:VTIMEZONE
TZID:America/Chicago
BEGIN:STANDARD
TZNAME:CST
DTSTART:20241103T020000
TZOFFSETFROM:-0500
TZOFFSETTO:-0600
RDATE:20251102T020000
END:STANDARD
BEGIN:DAYLIGHT
TZNAME:CDT
DTSTART:20240310T020000
TZOFFSETFROM:-0600
TZOFFSETTO:-0500
RDATE:20250309T020000
RDATE:20260308T020000
END:DAYLIGHT
END:VTIMEZONE
BEGIN:VEVENT
UID:e3553ce0-f3f4-477d-afe6-afbe88ed86cd
DTSTAMP:20260423T114950Z
DESCRIPTION:
DTSTART;TZID=America/Chicago:20250123T180000
DTEND;TZID=America/Chicago:20250123T200000
LOCATION:
SUMMARY:Basketball vs. TCA
END:VEVENT
END:VCALENDAR
