BEGIN:VCALENDAR
VERSION:2.0
PRODID:-//tandcschool.org//NONSGML kigkonsult.se iCalcreator 2.30.10//
CALSCALE:GREGORIAN
METHOD:PUBLISH
UID:978fb006-2259-4d8b-a675-f644a8394b72
X-WR-CALDESC:
X-WR-RELCALID:ef80ef671c65d6a83050a2c12d099de3
X-WR-TIMEZONE:America/Chicago
BEGIN:VTIMEZONE
TZID:America/Chicago
BEGIN:STANDARD
TZNAME:CST
DTSTART:20241103T020000
TZOFFSETFROM:-0500
TZOFFSETTO:-0600
RDATE:20251102T020000
END:STANDARD
BEGIN:DAYLIGHT
TZNAME:CDT
DTSTART:20240310T020000
TZOFFSETFROM:-0600
TZOFFSETTO:-0500
RDATE:20250309T020000
RDATE:20260308T020000
END:DAYLIGHT
END:VTIMEZONE
BEGIN:VEVENT
UID:7e4b2651-66e8-472a-9915-666140e4561f
DTSTAMP:20260423T115926Z
DESCRIPTION:
DTSTART;TZID=America/Chicago:20250122T152000
DTEND;TZID=America/Chicago:20250122T160000
LOCATION:
SUMMARY:Production Club
END:VEVENT
END:VCALENDAR
