BEGIN:VCALENDAR
VERSION:2.0
PRODID:-//tandcschool.org//NONSGML kigkonsult.se iCalcreator 2.30.10//
CALSCALE:GREGORIAN
METHOD:PUBLISH
UID:606ca613-2625-4d81-a881-e503737b5384
X-WR-CALDESC:
X-WR-RELCALID:91c33559cccb3bfdaf92e3193ece8d87
X-WR-TIMEZONE:America/Chicago
BEGIN:VTIMEZONE
TZID:America/Chicago
BEGIN:STANDARD
TZNAME:CST
DTSTART:20241103T020000
TZOFFSETFROM:-0500
TZOFFSETTO:-0600
RDATE:20251102T020000
END:STANDARD
BEGIN:DAYLIGHT
TZNAME:CDT
DTSTART:20240310T020000
TZOFFSETFROM:-0600
TZOFFSETTO:-0500
RDATE:20250309T020000
RDATE:20260308T020000
END:DAYLIGHT
END:VTIMEZONE
BEGIN:VEVENT
UID:b54dc623-749d-4aa0-bc5a-ee25f99008c2
DTSTAMP:20260423T120039Z
DESCRIPTION:
DTSTART;TZID=America/Chicago:20250121T150000
DTEND;TZID=America/Chicago:20250121T161500
LOCATION:
SUMMARY:Cooking Club
END:VEVENT
END:VCALENDAR
