BEGIN:VCALENDAR
VERSION:2.0
PRODID:-//tandcschool.org//NONSGML kigkonsult.se iCalcreator 2.30.10//
CALSCALE:GREGORIAN
METHOD:PUBLISH
UID:6454f467-8ec9-4c9b-976f-c3453123267d
X-WR-CALDESC:
X-WR-RELCALID:bfac68406f2e77fa9be522d0d0070da1
X-WR-TIMEZONE:America/Chicago
BEGIN:VTIMEZONE
TZID:America/Chicago
BEGIN:STANDARD
TZNAME:CST
DTSTART:20241103T020000
TZOFFSETFROM:-0500
TZOFFSETTO:-0600
RDATE:20251102T020000
END:STANDARD
BEGIN:DAYLIGHT
TZNAME:CDT
DTSTART:20240310T020000
TZOFFSETFROM:-0600
TZOFFSETTO:-0500
RDATE:20250309T020000
RDATE:20260308T020000
END:DAYLIGHT
END:VTIMEZONE
BEGIN:VEVENT
UID:005e0520-a9be-40f0-b3de-07846d03b891
DTSTAMP:20260423T115011Z
DESCRIPTION:
DTSTART;TZID=America/Chicago:20250117T150000
DTEND;TZID=America/Chicago:20250117T154500
LOCATION:
SUMMARY:NHS Meeting
END:VEVENT
END:VCALENDAR
