BEGIN:VCALENDAR
VERSION:2.0
PRODID:-//tandcschool.org//NONSGML kigkonsult.se iCalcreator 2.30.10//
CALSCALE:GREGORIAN
METHOD:PUBLISH
UID:623c9dd1-3ec9-44d1-ae01-fc44b5c28a60
X-WR-CALDESC:
X-WR-RELCALID:54d746058fa1d3f3154490ad5f21e222
X-WR-TIMEZONE:America/Chicago
BEGIN:VTIMEZONE
TZID:America/Chicago
BEGIN:STANDARD
TZNAME:CST
DTSTART:20241103T020000
TZOFFSETFROM:-0500
TZOFFSETTO:-0600
RDATE:20251102T020000
END:STANDARD
BEGIN:DAYLIGHT
TZNAME:CDT
DTSTART:20240310T020000
TZOFFSETFROM:-0600
TZOFFSETTO:-0500
RDATE:20250309T020000
RDATE:20260308T020000
END:DAYLIGHT
END:VTIMEZONE
BEGIN:VEVENT
UID:b0a40191-4e5d-4e0f-a921-a2a759eb42be
DTSTAMP:20260423T115118Z
DESCRIPTION:
DTSTART;TZID=America/Chicago:20250117T050000
DTEND;TZID=America/Chicago:20250117T050001
LOCATION:
SUMMARY:Fast Food Friday
END:VEVENT
END:VCALENDAR
