BEGIN:VCALENDAR
VERSION:2.0
PRODID:-//tandcschool.org//NONSGML kigkonsult.se iCalcreator 2.30.10//
CALSCALE:GREGORIAN
METHOD:PUBLISH
UID:19236012-d13c-4016-855a-a2cb95175cd4
X-WR-CALDESC:
X-WR-RELCALID:7d6f991a996865cb70639617c561673c
X-WR-TIMEZONE:America/Chicago
BEGIN:VTIMEZONE
TZID:America/Chicago
BEGIN:STANDARD
TZNAME:CST
DTSTART:20241103T020000
TZOFFSETFROM:-0500
TZOFFSETTO:-0600
RDATE:20251102T020000
END:STANDARD
BEGIN:DAYLIGHT
TZNAME:CDT
DTSTART:20240310T020000
TZOFFSETFROM:-0600
TZOFFSETTO:-0500
RDATE:20250309T020000
RDATE:20260308T020000
END:DAYLIGHT
END:VTIMEZONE
BEGIN:VEVENT
UID:c0a8165b-2320-4fb8-bccd-2a66032ab80b
DTSTAMP:20260423T115705Z
DESCRIPTION:
DTSTART;TZID=America/Chicago:20250117T150000
DTEND;TZID=America/Chicago:20250117T154500
LOCATION:
SUMMARY:Gaming Club A
END:VEVENT
END:VCALENDAR
