BEGIN:VCALENDAR
VERSION:2.0
PRODID:-//tandcschool.org//NONSGML kigkonsult.se iCalcreator 2.30.10//
CALSCALE:GREGORIAN
METHOD:PUBLISH
UID:9d17cb12-77ce-4f29-8340-b5baa657589c
X-WR-CALDESC:
X-WR-RELCALID:24af5539dc531923fdf28c4428e51aea
X-WR-TIMEZONE:America/Chicago
BEGIN:VTIMEZONE
TZID:America/Chicago
BEGIN:STANDARD
TZNAME:CST
DTSTART:20241103T020000
TZOFFSETFROM:-0500
TZOFFSETTO:-0600
RDATE:20251102T020000
END:STANDARD
BEGIN:DAYLIGHT
TZNAME:CDT
DTSTART:20240310T020000
TZOFFSETFROM:-0600
TZOFFSETTO:-0500
RDATE:20250309T020000
RDATE:20260308T020000
END:DAYLIGHT
END:VTIMEZONE
BEGIN:VEVENT
UID:db1c2d2b-4288-449c-a2c8-7cb88f5c709c
DTSTAMP:20260423T120119Z
DESCRIPTION:
DTSTART;TZID=America/Chicago:20250115T152000
DTEND;TZID=America/Chicago:20250115T160000
LOCATION:
SUMMARY:Production Club
END:VEVENT
END:VCALENDAR
