BEGIN:VCALENDAR
VERSION:2.0
PRODID:-//tandcschool.org//NONSGML kigkonsult.se iCalcreator 2.30.10//
CALSCALE:GREGORIAN
METHOD:PUBLISH
UID:0b047cc9-3016-4503-a2b7-7d7097440e3e
X-WR-CALDESC:
X-WR-RELCALID:ff1e347a131dc49cfa258ba73e70e890
X-WR-TIMEZONE:America/Chicago
BEGIN:VTIMEZONE
TZID:America/Chicago
BEGIN:STANDARD
TZNAME:CST
DTSTART:20241103T020000
TZOFFSETFROM:-0500
TZOFFSETTO:-0600
RDATE:20251102T020000
END:STANDARD
BEGIN:DAYLIGHT
TZNAME:CDT
DTSTART:20240310T020000
TZOFFSETFROM:-0600
TZOFFSETTO:-0500
RDATE:20250309T020000
RDATE:20260308T020000
END:DAYLIGHT
END:VTIMEZONE
BEGIN:VEVENT
UID:6bb7c154-a35a-4640-a6b3-e6c47fd6cb72
DTSTAMP:20260423T115141Z
DESCRIPTION:
DTSTART;TZID=America/Chicago:20250113T152000
DTEND;TZID=America/Chicago:20250113T160000
LOCATION:
SUMMARY:LS Art Club B
END:VEVENT
END:VCALENDAR
