BEGIN:VCALENDAR
VERSION:2.0
PRODID:-//tandcschool.org//NONSGML kigkonsult.se iCalcreator 2.30.10//
CALSCALE:GREGORIAN
METHOD:PUBLISH
UID:9a53bf68-5b3b-4054-94e5-106ce93a3bcd
X-WR-CALDESC:
X-WR-RELCALID:6ff573cb8c489e24d4aec1809dd6f5fa
X-WR-TIMEZONE:America/Chicago
BEGIN:VTIMEZONE
TZID:America/Chicago
BEGIN:STANDARD
TZNAME:CST
DTSTART:20241103T020000
TZOFFSETFROM:-0500
TZOFFSETTO:-0600
RDATE:20251102T020000
END:STANDARD
BEGIN:DAYLIGHT
TZNAME:CDT
DTSTART:20240310T020000
TZOFFSETFROM:-0600
TZOFFSETTO:-0500
RDATE:20250309T020000
RDATE:20260308T020000
END:DAYLIGHT
END:VTIMEZONE
BEGIN:VEVENT
UID:91bb553d-83ec-43f9-8e90-d8b8e2fc196a
DTSTAMP:20260423T115011Z
DESCRIPTION:
DTSTART;TZID=America/Chicago:20250113T150000
DTEND;TZID=America/Chicago:20250113T154500
LOCATION:
SUMMARY:Chess Club
END:VEVENT
END:VCALENDAR
