BEGIN:VCALENDAR
VERSION:2.0
PRODID:-//tandcschool.org//NONSGML kigkonsult.se iCalcreator 2.30.10//
CALSCALE:GREGORIAN
METHOD:PUBLISH
UID:8e641062-f852-4f77-ac01-61e3d3b8636c
X-WR-CALDESC:
X-WR-RELCALID:f7d8cf0e50d72bbe51d37c36d5801f37
X-WR-TIMEZONE:America/Chicago
BEGIN:VTIMEZONE
TZID:America/Chicago
BEGIN:STANDARD
TZNAME:CST
DTSTART:20241103T020000
TZOFFSETFROM:-0500
TZOFFSETTO:-0600
RDATE:20251102T020000
END:STANDARD
BEGIN:DAYLIGHT
TZNAME:CDT
DTSTART:20240310T020000
TZOFFSETFROM:-0600
TZOFFSETTO:-0500
RDATE:20250309T020000
RDATE:20260308T020000
END:DAYLIGHT
END:VTIMEZONE
BEGIN:VEVENT
UID:10e09678-04f5-4374-b89a-b1bc05cb58f5
DTSTAMP:20260423T114832Z
DESCRIPTION:
DTSTART;TZID=America/Chicago:20250113T150000
DTEND;TZID=America/Chicago:20250113T160000
LOCATION:
SUMMARY:Cheer
END:VEVENT
END:VCALENDAR
