BEGIN:VCALENDAR
VERSION:2.0
PRODID:-//tandcschool.org//NONSGML kigkonsult.se iCalcreator 2.30.10//
CALSCALE:GREGORIAN
METHOD:PUBLISH
UID:51c586e3-33e4-4d61-a54a-d7e1243f5f91
X-WR-CALDESC:
X-WR-RELCALID:4cf3c1574c90c03c55b88dc5c2d392f6
X-WR-TIMEZONE:America/Chicago
BEGIN:VTIMEZONE
TZID:America/Chicago
BEGIN:STANDARD
TZNAME:CST
DTSTART:20241103T020000
TZOFFSETFROM:-0500
TZOFFSETTO:-0600
RDATE:20251102T020000
END:STANDARD
BEGIN:DAYLIGHT
TZNAME:CDT
DTSTART:20240310T020000
TZOFFSETFROM:-0600
TZOFFSETTO:-0500
RDATE:20250309T020000
RDATE:20260308T020000
END:DAYLIGHT
END:VTIMEZONE
BEGIN:VEVENT
UID:f702ba03-b30e-41cb-b66c-633424b2bdb6
DTSTAMP:20260423T115021Z
DESCRIPTION:
DTSTART;TZID=America/Chicago:20250108T153000
DTEND;TZID=America/Chicago:20250108T170000
LOCATION:
SUMMARY:Bowling
END:VEVENT
END:VCALENDAR
