BEGIN:VCALENDAR
VERSION:2.0
PRODID:-//tandcschool.org//NONSGML kigkonsult.se iCalcreator 2.30.10//
CALSCALE:GREGORIAN
METHOD:PUBLISH
UID:a68aa858-d9d4-40ab-81b5-d057cec34041
X-WR-CALDESC:
X-WR-RELCALID:ad8cd01708709e107de1b4ea78341e78
X-WR-TIMEZONE:America/Chicago
BEGIN:VTIMEZONE
TZID:America/Chicago
BEGIN:STANDARD
TZNAME:CST
DTSTART:20241103T020000
TZOFFSETFROM:-0500
TZOFFSETTO:-0600
RDATE:20251102T020000
END:STANDARD
BEGIN:DAYLIGHT
TZNAME:CDT
DTSTART:20240310T020000
TZOFFSETFROM:-0600
TZOFFSETTO:-0500
RDATE:20250309T020000
RDATE:20260308T020000
END:DAYLIGHT
END:VTIMEZONE
BEGIN:VEVENT
UID:f0dd3f99-37fc-4e9a-8a0c-dfd062d3693a
DTSTAMP:20260423T115731Z
DESCRIPTION:
DTSTART;TZID=America/Chicago:20250106T150000
DTEND;TZID=America/Chicago:20250106T160000
LOCATION:
SUMMARY:LS Art Club A
END:VEVENT
END:VCALENDAR
