BEGIN:VCALENDAR
VERSION:2.0
PRODID:-//tandcschool.org//NONSGML kigkonsult.se iCalcreator 2.30.10//
CALSCALE:GREGORIAN
METHOD:PUBLISH
UID:c356889d-092f-4f3f-a1a7-58a71cdd2ae4
X-WR-CALDESC:
X-WR-RELCALID:d136eeac10b053abffcf0c1eeeeada8e
X-WR-TIMEZONE:America/Chicago
BEGIN:VTIMEZONE
TZID:America/Chicago
BEGIN:STANDARD
TZNAME:CST
DTSTART:20241103T020000
TZOFFSETFROM:-0500
TZOFFSETTO:-0600
RDATE:20251102T020000
END:STANDARD
BEGIN:DAYLIGHT
TZNAME:CDT
DTSTART:20240310T020000
TZOFFSETFROM:-0600
TZOFFSETTO:-0500
RDATE:20250309T020000
RDATE:20260308T020000
END:DAYLIGHT
END:VTIMEZONE
BEGIN:VEVENT
UID:31ae3e0d-3d85-4410-9644-8763a04c840e
DTSTAMP:20260423T115838Z
DESCRIPTION:
DTSTART;TZID=America/Chicago:20250106T150000
DTEND;TZID=America/Chicago:20250106T154500
LOCATION:
SUMMARY:Bible Club
END:VEVENT
END:VCALENDAR
