BEGIN:VCALENDAR
VERSION:2.0
PRODID:-//tandcschool.org//NONSGML kigkonsult.se iCalcreator 2.30.10//
CALSCALE:GREGORIAN
METHOD:PUBLISH
UID:dfc210d3-744f-4655-930e-1f3c67001a99
X-WR-CALDESC:
X-WR-RELCALID:06df52ea0b671d72576d7fcb6a154df7
X-WR-TIMEZONE:America/Chicago
BEGIN:VTIMEZONE
TZID:America/Chicago
BEGIN:STANDARD
TZNAME:CST
DTSTART:20241103T020000
TZOFFSETFROM:-0500
TZOFFSETTO:-0600
RDATE:20251102T020000
END:STANDARD
BEGIN:DAYLIGHT
TZNAME:CDT
DTSTART:20240310T020000
TZOFFSETFROM:-0600
TZOFFSETTO:-0500
RDATE:20250309T020000
RDATE:20260308T020000
END:DAYLIGHT
END:VTIMEZONE
BEGIN:VEVENT
UID:5aff3e7a-e340-4af3-8924-f13091c443ee
DTSTAMP:20260423T133959Z
DESCRIPTION:
DTSTART;TZID=America/Chicago:20241218T153000
DTEND;TZID=America/Chicago:20241218T170000
LOCATION:
SUMMARY:Bowling
END:VEVENT
END:VCALENDAR
