BEGIN:VCALENDAR
VERSION:2.0
PRODID:-//tandcschool.org//NONSGML kigkonsult.se iCalcreator 2.30.10//
CALSCALE:GREGORIAN
METHOD:PUBLISH
UID:ea1cbc14-3cb4-4b7d-b001-634222661262
X-WR-CALDESC:
X-WR-RELCALID:a88374b1c0764f12b91c36dfcc961e17
X-WR-TIMEZONE:America/Chicago
BEGIN:VTIMEZONE
TZID:America/Chicago
BEGIN:STANDARD
TZNAME:CST
DTSTART:20241103T020000
TZOFFSETFROM:-0500
TZOFFSETTO:-0600
RDATE:20251102T020000
END:STANDARD
BEGIN:DAYLIGHT
TZNAME:CDT
DTSTART:20240310T020000
TZOFFSETFROM:-0600
TZOFFSETTO:-0500
RDATE:20250309T020000
RDATE:20260308T020000
END:DAYLIGHT
END:VTIMEZONE
BEGIN:VEVENT
UID:9cd542cf-cc93-428a-824f-f16eff1bee62
DTSTAMP:20260423T133834Z
DESCRIPTION:
DTSTART;TZID=America/Chicago:20241216T150000
DTEND;TZID=America/Chicago:20241216T160000
LOCATION:
SUMMARY:Cheer
END:VEVENT
END:VCALENDAR
