BEGIN:VCALENDAR
VERSION:2.0
PRODID:-//tandcschool.org//NONSGML kigkonsult.se iCalcreator 2.30.10//
CALSCALE:GREGORIAN
METHOD:PUBLISH
UID:b3edbc51-55b9-4e6f-900b-9d9c25c66b02
X-WR-CALDESC:
X-WR-RELCALID:2e724431d50837ff2c77b657839f64b3
X-WR-TIMEZONE:America/Chicago
BEGIN:VTIMEZONE
TZID:America/Chicago
BEGIN:STANDARD
TZNAME:CST
DTSTART:20241103T020000
TZOFFSETFROM:-0500
TZOFFSETTO:-0600
RDATE:20251102T020000
END:STANDARD
BEGIN:DAYLIGHT
TZNAME:CDT
DTSTART:20240310T020000
TZOFFSETFROM:-0600
TZOFFSETTO:-0500
RDATE:20250309T020000
RDATE:20260308T020000
END:DAYLIGHT
END:VTIMEZONE
BEGIN:VEVENT
UID:9649ec4f-82a4-4827-a571-2e47707e3b24
DTSTAMP:20260423T133404Z
DESCRIPTION:
DTSTART;TZID=America/Chicago:20241213T150000
DTEND;TZID=America/Chicago:20241213T154500
LOCATION:
SUMMARY:NHS Meeting
END:VEVENT
END:VCALENDAR
