BEGIN:VCALENDAR
VERSION:2.0
PRODID:-//tandcschool.org//NONSGML kigkonsult.se iCalcreator 2.30.10//
CALSCALE:GREGORIAN
METHOD:PUBLISH
UID:744c4e77-9559-45f7-a9f3-078b8a89976c
X-WR-CALDESC:
X-WR-RELCALID:2c285027a4487f8214ba0dadcff40f32
X-WR-TIMEZONE:America/Chicago
BEGIN:VTIMEZONE
TZID:America/Chicago
BEGIN:STANDARD
TZNAME:CST
DTSTART:20241103T020000
TZOFFSETFROM:-0500
TZOFFSETTO:-0600
RDATE:20251102T020000
END:STANDARD
BEGIN:DAYLIGHT
TZNAME:CDT
DTSTART:20240310T020000
TZOFFSETFROM:-0600
TZOFFSETTO:-0500
RDATE:20250309T020000
RDATE:20260308T020000
END:DAYLIGHT
END:VTIMEZONE
BEGIN:VEVENT
UID:ae26ef3f-78aa-4413-a535-e2250b6f80ee
DTSTAMP:20260423T134019Z
DESCRIPTION:
DTSTART;TZID=America/Chicago:20241213T050000
DTEND;TZID=America/Chicago:20241213T050001
LOCATION:
SUMMARY:Free Dress Day
END:VEVENT
END:VCALENDAR
