BEGIN:VCALENDAR
VERSION:2.0
PRODID:-//tandcschool.org//NONSGML kigkonsult.se iCalcreator 2.30.10//
CALSCALE:GREGORIAN
METHOD:PUBLISH
UID:f862cd90-ecf1-4186-85b8-2ec3b3b304ff
X-WR-CALDESC:
X-WR-RELCALID:4924e4078474b7755f9de23d738fca08
X-WR-TIMEZONE:America/Chicago
BEGIN:VTIMEZONE
TZID:America/Chicago
BEGIN:STANDARD
TZNAME:CST
DTSTART:20241103T020000
TZOFFSETFROM:-0500
TZOFFSETTO:-0600
RDATE:20251102T020000
END:STANDARD
BEGIN:DAYLIGHT
TZNAME:CDT
DTSTART:20240310T020000
TZOFFSETFROM:-0600
TZOFFSETTO:-0500
RDATE:20250309T020000
RDATE:20260308T020000
END:DAYLIGHT
END:VTIMEZONE
BEGIN:VEVENT
UID:2b3145a4-fa4e-426a-9eb3-2a722bb34ccf
DTSTAMP:20260423T132033Z
DESCRIPTION:
DTSTART;TZID=America/Chicago:20241213T160000
DTEND;TZID=America/Chicago:20241213T180000
LOCATION:
SUMMARY:Bowling Competition
END:VEVENT
END:VCALENDAR
